BEGIN:VCALENDAR
VERSION:2.0
PRODID:-//wp-events-plugin.com//7.2.3.1//EN
TZID:Europe/Berlin
X-WR-TIMEZONE:Europe/Berlin
BEGIN:VEVENT
UID:102@ev-kirche-eupen-neumoresnet.org
DTSTART;TZID=Europe/Berlin:20220827T110000
DTEND;TZID=Europe/Berlin:20220827T120000
DTSTAMP:20220705T115703Z
URL:https://ev-kirche-eupen-neumoresnet.org/events/6-sonntag-nach-trinitat
 is-kelmis-2/
SUMMARY:Taufgottesdienst - Kelmis
DESCRIPTION:Taufgottesdienst
CATEGORIES:Gottesdienst
LOCATION:Johanneskirche\, Hasardstraße 8\, Kelmis\, 4721\, Belgien
X-APPLE-STRUCTURED-LOCATION;VALUE=URI;X-ADDRESS=Hasardstraße 8\, Kelmis\, 
 4721\, Belgien;X-APPLE-RADIUS=100;X-TITLE=Johanneskirche:geo:0,0
END:VEVENT
BEGIN:VTIMEZONE
TZID:Europe/Berlin
X-LIC-LOCATION:Europe/Berlin
BEGIN:DAYLIGHT
DTSTART:20220327T030000
TZOFFSETFROM:+0100
TZOFFSETTO:+0200
TZNAME:CEST
END:DAYLIGHT
END:VTIMEZONE
END:VCALENDAR