BEGIN:VCALENDAR
VERSION:2.0
PRODID:-//wp-events-plugin.com//7.2.3.1//EN
TZID:Europe/Berlin
X-WR-TIMEZONE:Europe/Berlin
BEGIN:VEVENT
UID:310@ev-kirche-eupen-neumoresnet.org
DTSTART;TZID=Europe/Berlin:20250429T190000
DTEND;TZID=Europe/Berlin:20250429T190000
DTSTAMP:20250416T175632Z
URL:https://ev-kirche-eupen-neumoresnet.org/events/festgottesdienst-mit-hl
 -am-chor-nota-bene/
SUMMARY:Ökumenische Bibelstunde
DESCRIPTION:Ostersonntag
CATEGORIES:Bibelstunde,Ökumenische Bibelstunde
LOCATION:Johanneskirche\, Hasardstraße 8\, Kelmis\, 4721\, Belgien
X-APPLE-STRUCTURED-LOCATION;VALUE=URI;X-ADDRESS=Hasardstraße 8\, Kelmis\, 
 4721\, Belgien;X-APPLE-RADIUS=100;X-TITLE=Johanneskirche:geo:0,0
END:VEVENT
BEGIN:VTIMEZONE
TZID:Europe/Berlin
X-LIC-LOCATION:Europe/Berlin
BEGIN:DAYLIGHT
DTSTART:20250330T030000
TZOFFSETFROM:+0100
TZOFFSETTO:+0200
TZNAME:CEST
END:DAYLIGHT
END:VTIMEZONE
END:VCALENDAR