BEGIN:VCALENDAR
VERSION:2.0
PRODID:-//wp-events-plugin.com//7.2.3.1//EN
TZID:Europe/Berlin
X-WR-TIMEZONE:Europe/Berlin
BEGIN:VEVENT
UID:529@ev-kirche-eupen-neumoresnet.org
DTSTART;TZID=Europe/Berlin:20260514T093000
DTEND;TZID=Europe/Berlin:20260514T170000
DTSTAMP:20260307T194604Z
URL:https://ev-kirche-eupen-neumoresnet.org/events/profest-2026/
SUMMARY:Profest 2026
DESCRIPTION:🎉 Was ist Profest?\n\nProfest ist eine große Gemeindefestv
 eranstaltung der protestantischen Gemeinschaft in Belgien\, die etwa alle 
 zwei Jahre stattfindet. Sie richtet sich an alle Altersgruppen und bietet:
 \n\nGottesdienstliche Elemente mit gemeinsamen Gebeten und Liedern\nWorksh
 ops und Aktivitäten zu spirituellen\, kulturellen und theologischen Theme
 n\nStände und Präsentationen verschiedener Gruppen und Vereine\nGelegenh
 eiten zum Austausch und zur Begegnung mit anderen Teilnehmenden\n\nDie Ver
 anstaltung legt den Fokus auf Begegnung\, gemeinsames Feiern und Austausch
  und ist offen für Menschen unterschiedlichster Lebens- und Glaubenswege.
 \n\n📌 Programm (Auszug)\n\nBegrüßung und Gemeinschaftszeiten am Vorm
 ittag\nWorkshops zu Bibelarbeit\, Malen\, Gesprächsrunden und ökologisch
 er Theologie\nMittagspause und Besuch der Stände\nAbschluss mit Musik am 
 Nachmittag\n👉 Weitere Informationen und Anmeldemöglichkeiten finden si
 ch auf der offiziellen Website: Profest 2026
CATEGORIES:Gebet,Gottesdienst,Kultur,Musik
LOCATION:Heusden-Zolder\, Watt 17\, Koeltorenlaan 8\, Heusden-Zolder\, 3550
 \, Provinz Limburg\, Belgien
X-APPLE-STRUCTURED-LOCATION;VALUE=URI;X-ADDRESS=Watt 17\, Koeltorenlaan 8\,
  Heusden-Zolder\, 3550\, Provinz Limburg\, Belgien;X-APPLE-RADIUS=100;X-TI
 TLE=Heusden-Zolder:geo:0,0
END:VEVENT
BEGIN:VTIMEZONE
TZID:Europe/Berlin
X-LIC-LOCATION:Europe/Berlin
BEGIN:DAYLIGHT
DTSTART:20260329T030000
TZOFFSETFROM:+0100
TZOFFSETTO:+0200
TZNAME:CEST
END:DAYLIGHT
END:VTIMEZONE
END:VCALENDAR